BEGIN:VCALENDAR
VERSION:2.0
PRODID:-//84.19.184.230//NONSGML kigkonsult.se iCalcreator 2.20//
CALSCALE:GREGORIAN
METHOD:PUBLISH
X-WR-TIMEZONE:Europe/Berlin
BEGIN:VEVENT
UID:event35@ 
DTSTAMP:20260420T112258Z
CATEGORIES:TFA Event\, Treppenlauf Event\, FSV Event
DESCRIPTION:Crossfit Training für FSV-Mitglieder\nKategorie: TFA Event\, Tr
 eppenlauf Event\, FSV Event\nICS-Link: https://test.fsv-koeln.de/index.php
 ?option=com_jem&view=event&id=35:probetraining\n
DTSTART;TZID=Europe/Berlin:20180512T140000
DTEND;TZID=Europe/Berlin:20180512T153000
SUMMARY:Crossfit Training für FSV-Mitglieder
URL:https://test.fsv-koeln.de/index.php?option=com_jem&view=event&id=35:pro
 betraining
END:VEVENT
END:VCALENDAR
