BEGIN:VCALENDAR
VERSION:2.0
PRODID:-//84.19.184.230//NONSGML kigkonsult.se iCalcreator 2.20//
CALSCALE:GREGORIAN
METHOD:PUBLISH
X-WR-TIMEZONE:Europe/Berlin
BEGIN:VEVENT
UID:event2@ 
DTSTAMP:20260420T112804Z
CATEGORIES:TFA Event
DESCRIPTION:TFFA Mönchengladbach\nKategorie: TFA Event\nICS-Link: https://t
 est.fsv-koeln.de/index.php?option=com_jem&view=event&id=2:tffa-moenchengla
 dbach\n
DTSTART;TZID=Europe/Berlin:20180608T090000
DTEND;TZID=Europe/Berlin:20180609T180000
SUMMARY:TFFA Mönchengladbach
URL:https://test.fsv-koeln.de/index.php?option=com_jem&view=event&id=2:tffa
 -moenchengladbach
END:VEVENT
END:VCALENDAR
